BEGIN:VCALENDAR
VERSION:2.0
PRODID:-// - ECPv6.15.19//NONSGML v1.0//EN
CALSCALE:GREGORIAN
METHOD:PUBLISH
X-ORIGINAL-URL:https://colegiodemedicinaestetica.com.mx
X-WR-CALDESC:Eventos para 
REFRESH-INTERVAL;VALUE=DURATION:PT1H
X-Robots-Tag:noindex
X-PUBLISHED-TTL:PT1H
BEGIN:VTIMEZONE
TZID:UTC
BEGIN:STANDARD
TZOFFSETFROM:+0000
TZOFFSETTO:+0000
TZNAME:UTC
DTSTART:20250101T000000
END:STANDARD
END:VTIMEZONE
BEGIN:VEVENT
DTSTART;TZID=UTC:20260424T090000
DTEND;TZID=UTC:20260425T183000
DTSTAMP:20260424T100015
CREATED:20240520T120027Z
LAST-MODIFIED:20250831T035135Z
UID:802-1777021200-1777141800@colegiodemedicinaestetica.com.mx
SUMMARY:Diplomado en Terapia Neural  Módulo 2
DESCRIPTION:Segmento Terapia Neural
URL:https://colegiodemedicinaestetica.com.mx/calendario/diplomado-en-terapia-neural-modulo-2-historia/
LOCATION:ISIENA\, Calle Tabachín #514 Colonia Bellavista\, C.P. 62140\, Cuernavaca\, Morelos\, 62270\, Mexico
CATEGORIES:Cursos para Médicos,Diplomado de Terapia Neural,Terapia Neural
ATTACH;FMTTYPE=image/jpeg:https://colegiodemedicinaestetica.com.mx/wp-content/uploads/2018/01/TN2.jpg
END:VEVENT
BEGIN:VEVENT
DTSTART;VALUE=DATE:20260425
DTEND;VALUE=DATE:20260426
DTSTAMP:20260424T100015
CREATED:20260309T120048Z
LAST-MODIFIED:20260327T022823Z
UID:832-1777075200-1777161599@colegiodemedicinaestetica.com.mx
SUMMARY:Exosomas
DESCRIPTION:exosomas autólogos (Curso online)
URL:https://colegiodemedicinaestetica.com.mx/calendario/exosomas/
LOCATION:Morelos
CATEGORIES:Cursos online,Cursos para Médicos,Diplomado de Medicina Regenerativa
ATTACH;FMTTYPE=image/jpeg:https://colegiodemedicinaestetica.com.mx/wp-content/uploads/2026/03/nuevo-exosomas.jpg
ORGANIZER;CN="Instituto Superior de Investigaci%C3%B3n en Est%C3%A9tica M%C3%A9dica%2C Nutrici%C3%B3n y Anti-Envejecimiento%2C S.C.":MAILTO:info@isiena.com.mx
END:VEVENT
END:VCALENDAR