BEGIN:VCALENDAR
VERSION:2.0
PRODID:-// - ECPv6.15.19//NONSGML v1.0//EN
CALSCALE:GREGORIAN
METHOD:PUBLISH
X-ORIGINAL-URL:https://colegiodemedicinaestetica.com.mx
X-WR-CALDESC:Eventos para 
REFRESH-INTERVAL;VALUE=DURATION:PT1H
X-Robots-Tag:noindex
X-PUBLISHED-TTL:PT1H
BEGIN:VTIMEZONE
TZID:UTC
BEGIN:STANDARD
TZOFFSETFROM:+0000
TZOFFSETTO:+0000
TZNAME:UTC
DTSTART:20250101T000000
END:STANDARD
END:VTIMEZONE
BEGIN:VTIMEZONE
TZID:America/Mexico_City
BEGIN:STANDARD
TZOFFSETFROM:-0600
TZOFFSETTO:-0600
TZNAME:CST
DTSTART:20250101T000000
END:STANDARD
END:VTIMEZONE
BEGIN:VEVENT
DTSTART;TZID=UTC:20260524T103000
DTEND;TZID=UTC:20260524T183000
DTSTAMP:20260424T160454
CREATED:20250305T120027Z
LAST-MODIFIED:20260220T204229Z
UID:190-1779618600-1779647400@colegiodemedicinaestetica.com.mx
SUMMARY:Restitución Capilar con Técnica FUE
DESCRIPTION:Restitución Capilar con Técnica F.U.E.
URL:https://colegiodemedicinaestetica.com.mx/calendario/restitucion-capilar/
LOCATION:ISIENA\, Calle Tabachín #514 Colonia Bellavista\, C.P. 62140\, Cuernavaca\, Morelos\, 62270\, Mexico
CATEGORIES:Cursos para Médicos,Medicina Estética
ATTACH;FMTTYPE=image/jpeg:https://colegiodemedicinaestetica.com.mx/wp-content/uploads/2025/03/Copete-FUE.jpg
ORGANIZER;CN="Colegio M%C3%A9dico Cient%C3%ADfico para la Prevenci%C3%B3n y Tratamiento en Nutrici%C3%B3n%2C Anti-Envejecimiento y Est%C3%A9tica A.C.":MAILTO:info@colegiodemedicinaestetica.com.mx
END:VEVENT
BEGIN:VEVENT
DTSTART;TZID=UTC:20260605T090000
DTEND;TZID=UTC:20260606T183000
DTSTAMP:20260424T160454
CREATED:20240505T120020Z
LAST-MODIFIED:20250831T035057Z
UID:806-1780650000-1780770600@colegiodemedicinaestetica.com.mx
SUMMARY:Diplomado en Terapia Neural Módulo 3: Cabeza
DESCRIPTION:Diplomado de Terapia Neural con Registro y Autorización de la Secretaría de Educación del Estado de Morelos \n 
URL:https://colegiodemedicinaestetica.com.mx/calendario/cabeza-terapia-neural/
LOCATION:ISIENA\, Calle Tabachín #514 Colonia Bellavista\, C.P. 62140\, Cuernavaca\, Morelos\, 62270\, Mexico
CATEGORIES:Cursos para Médicos,Diplomado de Terapia Neural,Terapia Neural
ATTACH;FMTTYPE=image/jpeg:https://colegiodemedicinaestetica.com.mx/wp-content/uploads/2019/02/TN3.jpg
END:VEVENT
BEGIN:VEVENT
DTSTART;VALUE=DATE:20260612
DTEND;VALUE=DATE:20260613
DTSTAMP:20260424T160454
CREATED:20250601T140005Z
LAST-MODIFIED:20250720T032914Z
UID:839-1781222400-1781308799@colegiodemedicinaestetica.com.mx
SUMMARY:Análisis Metabólico
DESCRIPTION:Diplomado en Nutrición Anti-Envejecimiento y Estética\nMódulo 6: Análisis Metabólico Híbrido: Online + presencial \nEn virtud de que no son módulos consecutivos\, se puede ingresar en cualquiera de ellos
URL:https://colegiodemedicinaestetica.com.mx/calendario/alimentacion-y-nutricion/
LOCATION:ISIENA\, Calle Tabachín #514 Colonia Bellavista\, C.P. 62140\, Cuernavaca\, Morelos\, 62270\, Mexico
CATEGORIES:Corporal,Cursos online,Diplomado de Medicina Estética,Facial,Medicina Estética
ATTACH;FMTTYPE=image/jpeg:https://colegiodemedicinaestetica.com.mx/wp-content/uploads/2025/06/analsis-metabolico.jpg
ORGANIZER;CN="Instituto Superior de Investigaci%C3%B3n en Est%C3%A9tica M%C3%A9dica%2C Nutrici%C3%B3n y Anti-Envejecimiento%2C S.C.":MAILTO:info@isiena.com.mx
END:VEVENT
BEGIN:VEVENT
DTSTART;TZID=UTC:20260619T091500
DTEND;TZID=UTC:20260619T180000
DTSTAMP:20260424T160454
CREATED:20260320T035637Z
LAST-MODIFIED:20260404T234513Z
UID:4977-1781860500-1781892000@colegiodemedicinaestetica.com.mx
SUMMARY:Bioestimulación Facial
DESCRIPTION:workshop intensivo. (hands-on)\nBioestimulación Facial
URL:https://colegiodemedicinaestetica.com.mx/calendario/bioestimulacion-facial/
LOCATION:ISIENA\, Calle Tabachín #514 Colonia Bellavista\, C.P. 62140\, Cuernavaca\, Morelos\, 62270\, Mexico
CATEGORIES:Cursos para Médicos,Facial
ATTACH;FMTTYPE=image/jpeg:https://colegiodemedicinaestetica.com.mx/wp-content/uploads/2026/03/copete-pdf.jpg
ORGANIZER;CN="Instituto Superior de Investigaci%C3%B3n en Est%C3%A9tica M%C3%A9dica%2C Nutrici%C3%B3n y Anti-Envejecimiento%2C S.C.":MAILTO:info@isiena.com.mx
END:VEVENT
BEGIN:VEVENT
DTSTART;TZID=America/Mexico_City:20260703T090000
DTEND;TZID=America/Mexico_City:20260704T183000
DTSTAMP:20260424T160454
CREATED:20240505T120026Z
LAST-MODIFIED:20250831T035027Z
UID:812-1783069200-1783189800@colegiodemedicinaestetica.com.mx
SUMMARY:Diplomado de Terapia Neural Módulo 4: Cabeza II
DESCRIPTION:Diplomado de Terapia Neural\n8 Módulos 
URL:https://colegiodemedicinaestetica.com.mx/calendario/diplomado-terapia-neural-cabeza/
LOCATION:ISIENA\, Calle Tabachín #514 Colonia Bellavista\, C.P. 62140\, Cuernavaca\, Morelos\, 62270\, Mexico
CATEGORIES:Cursos para Médicos,Diplomado de Terapia Neural,Facial,Medicina Regenerativa,Terapia Neural
ATTACH;FMTTYPE=image/jpeg:https://colegiodemedicinaestetica.com.mx/wp-content/uploads/2021/01/TN4.jpg
END:VEVENT
BEGIN:VEVENT
DTSTART;VALUE=DATE:20260717
DTEND;VALUE=DATE:20260718
DTSTAMP:20260424T160454
CREATED:20240707T120032Z
LAST-MODIFIED:20250720T025906Z
UID:841-1784246400-1784332799@colegiodemedicinaestetica.com.mx
SUMMARY:Metabolismo y Nutrición
DESCRIPTION:Diplomado en Nutrición Anti-Envejecimiento y Estética\nMódulo 7 Online: Introducción a la Nutrición Ortomolecular\nEn virtud de que no son módulos consecutivos\, se puede ingresar en cualquiera de ellos
URL:https://colegiodemedicinaestetica.com.mx/calendario/metabolismo/
LOCATION:ISIENA\, Calle Tabachín #514 Colonia Bellavista\, C.P. 62140\, Cuernavaca\, Morelos\, 62270\, Mexico
CATEGORIES:Corporal,Cursos online,Cursos para Médicos,Diplomado de Medicina Estética,Nutrición
ATTACH;FMTTYPE=image/jpeg:https://colegiodemedicinaestetica.com.mx/wp-content/uploads/2024/07/metabolismo.jpg
ORGANIZER;CN="Colegio M%C3%A9dico Cient%C3%ADfico para la Prevenci%C3%B3n y Tratamiento en Nutrici%C3%B3n%2C Anti-Envejecimiento y Est%C3%A9tica A.C.":MAILTO:info@colegiodemedicinaestetica.com.mx
END:VEVENT
BEGIN:VEVENT
DTSTART;VALUE=DATE:20260814
DTEND;VALUE=DATE:20260815
DTSTAMP:20260424T160454
CREATED:20240801T120036Z
LAST-MODIFIED:20250831T035530Z
UID:843-1786665600-1786751999@colegiodemedicinaestetica.com.mx
SUMMARY:Flebología y Escleroterapia
DESCRIPTION:Diplomado en Nutrición Anti-Envejecimiento y Estética\nMódulo 8  Flebología y Escleroterapia. Online\nEn virtud de que no son módulos consecutivos\, se puede ingresar en cualquiera de ellos
URL:https://colegiodemedicinaestetica.com.mx/calendario/flebologia-escleroterapia/
LOCATION:ISIENA\, Calle Tabachín #514 Colonia Bellavista\, C.P. 62140\, Cuernavaca\, Morelos\, 62270\, Mexico
CATEGORIES:Corporal,Cursos online,Cursos para Médicos,Diplomado de Medicina Estética,Medicina Estética
ATTACH;FMTTYPE=image/jpeg:https://colegiodemedicinaestetica.com.mx/wp-content/uploads/2023/08/curso-flebologia-escleroterapia.jpg
ORGANIZER;CN="Colegio M%C3%A9dico Cient%C3%ADfico para la Prevenci%C3%B3n y Tratamiento en Nutrici%C3%B3n%2C Anti-Envejecimiento y Est%C3%A9tica A.C.":MAILTO:info@colegiodemedicinaestetica.com.mx
END:VEVENT
BEGIN:VEVENT
DTSTART;TZID=UTC:20260821T090000
DTEND;TZID=UTC:20260822T183000
DTSTAMP:20260424T160454
CREATED:20240605T120022Z
LAST-MODIFIED:20250831T034942Z
UID:816-1787302800-1787423400@colegiodemedicinaestetica.com.mx
SUMMARY:Diplomado de Terapia Neural Módulo: 5 Vegetativo
DESCRIPTION:Vegetativo del Diplomado de Terapia Neural con Registro y Autorización de la Secretaría de Educación
URL:https://colegiodemedicinaestetica.com.mx/calendario/sistema_vegetativo/
LOCATION:ISIENA\, Calle Tabachín #514 Colonia Bellavista\, C.P. 62140\, Cuernavaca\, Morelos\, 62270\, Mexico
CATEGORIES:Cursos para Médicos,Diplomado de Terapia Neural,Terapia Neural
ATTACH;FMTTYPE=image/jpeg:https://colegiodemedicinaestetica.com.mx/wp-content/uploads/2020/07/TN5.jpg
ORGANIZER;CN="Colegio M%C3%A9dico Cient%C3%ADfico para la Prevenci%C3%B3n y Tratamiento en Nutrici%C3%B3n%2C Anti-Envejecimiento y Est%C3%A9tica A.C.":MAILTO:info@colegiodemedicinaestetica.com.mx
END:VEVENT
BEGIN:VEVENT
DTSTART;VALUE=DATE:20260918
DTEND;VALUE=DATE:20260921
DTSTAMP:20260424T160454
CREATED:20251001T120036Z
LAST-MODIFIED:20251005T210916Z
UID:438-1789689600-1789948799@colegiodemedicinaestetica.com.mx
SUMMARY:Aparatología en Medicina Estética
DESCRIPTION:Módulo 9: Aparatología Avanzada en Medicina Estética\nDiplomado en Nutrición\, Anti-Envejecimiento y Estética \nB-learning: Online\, clases presenciales y práctica\nTerapia Neural\, Flebología y Escleroterapia
URL:https://colegiodemedicinaestetica.com.mx/calendario/aparatologia/
LOCATION:ISIENA\, Calle Tabachín #514 Colonia Bellavista\, C.P. 62140\, Cuernavaca\, Morelos\, 62270\, Mexico
CATEGORIES:Corporal,Cursos online,Cursos para Médicos,Diplomado de Medicina Estética,Medicina Estética,Terapia Neural
ATTACH;FMTTYPE=image/jpeg:https://colegiodemedicinaestetica.com.mx/wp-content/uploads/2024/05/aparatologia-medicina-estetica.jpg
ORGANIZER;CN="Colegio M%C3%A9dico Cient%C3%ADfico para la Prevenci%C3%B3n y Tratamiento en Nutrici%C3%B3n%2C Anti-Envejecimiento y Est%C3%A9tica A.C.":MAILTO:info@colegiodemedicinaestetica.com.mx
END:VEVENT
BEGIN:VEVENT
DTSTART;VALUE=DATE:20260925
DTEND;VALUE=DATE:20260927
DTSTAMP:20260424T160454
CREATED:20240805T120000Z
LAST-MODIFIED:20250831T035444Z
UID:822-1790294400-1790467199@colegiodemedicinaestetica.com.mx
SUMMARY:Diplomado de Terapia Neural Módulo 6: Músculos
DESCRIPTION:Diplomado de Terapia Neural con Registro y Autorización de la Secretaría de Educación del Estado de Morelos
URL:https://colegiodemedicinaestetica.com.mx/calendario/terapianeuralenmusculos/
LOCATION:ISIENA\, Calle Tabachín #514 Colonia Bellavista\, C.P. 62140\, Cuernavaca\, Morelos\, 62270\, Mexico
CATEGORIES:Cursos para Médicos,Diplomado de Terapia Neural
ATTACH;FMTTYPE=image/jpeg:https://colegiodemedicinaestetica.com.mx/wp-content/uploads/2017/12/TN6.jpg
END:VEVENT
BEGIN:VEVENT
DTSTART;TZID=UTC:20261016T150000
DTEND;TZID=UTC:20261018T150000
DTSTAMP:20260424T160454
CREATED:20251005T023619Z
LAST-MODIFIED:20251101T034732Z
UID:788-1792162800-1792335600@colegiodemedicinaestetica.com.mx
SUMMARY:Reemplazo hormonal
DESCRIPTION:Diplomado en Nutrición Anti-Envejecimiento y Estética \nMódulo 10 \nHíbrido: Online + clases y prácticas presenciales. Cuernavaca
URL:https://colegiodemedicinaestetica.com.mx/calendario/enfermedades-cronico-degenerativas/
LOCATION:ISIENA\, Calle Tabachín #514 Colonia Bellavista\, C.P. 62140\, Cuernavaca\, Morelos\, 62270\, Mexico
CATEGORIES:Cursos para Médicos,Diplomado de Medicina Estética,Terapia Neural
ATTACH;FMTTYPE=image/jpeg:https://colegiodemedicinaestetica.com.mx/wp-content/uploads/2024/10/hormonal.jpg
ORGANIZER;CN="Colegio M%C3%A9dico Cient%C3%ADfico para la Prevenci%C3%B3n y Tratamiento en Nutrici%C3%B3n%2C Anti-Envejecimiento y Est%C3%A9tica A.C.":MAILTO:info@colegiodemedicinaestetica.com.mx
END:VEVENT
BEGIN:VEVENT
DTSTART;VALUE=DATE:20261023
DTEND;VALUE=DATE:20261025
DTSTAMP:20260424T160454
CREATED:20251001T120044Z
LAST-MODIFIED:20251005T210531Z
UID:825-1792713600-1792886399@colegiodemedicinaestetica.com.mx
SUMMARY:Diplomado de Terapia Neural Módulo 7 Columna
DESCRIPTION:Aplicación de Terapia Neural en Columna
URL:https://colegiodemedicinaestetica.com.mx/calendario/terapianerual_en_columna/
LOCATION:ISIENA\, Calle Tabachín #514 Colonia Bellavista\, C.P. 62140\, Cuernavaca\, Morelos\, 62270\, Mexico
CATEGORIES:Corporal,Cursos para Médicos,Diplomado de Terapia Neural,Terapia Neural
ATTACH;FMTTYPE=image/jpeg:https://colegiodemedicinaestetica.com.mx/wp-content/uploads/2017/12/TN7.jpg
ORGANIZER;CN="Colegio M%C3%A9dico Cient%C3%ADfico para la Prevenci%C3%B3n y Tratamiento en Nutrici%C3%B3n%2C Anti-Envejecimiento y Est%C3%A9tica A.C.":MAILTO:info@colegiodemedicinaestetica.com.mx
END:VEVENT
BEGIN:VEVENT
DTSTART;TZID=UTC:20261113T090000
DTEND;TZID=UTC:20261114T183000
DTSTAMP:20260424T160454
CREATED:20251201T120027Z
LAST-MODIFIED:20251208T001518Z
UID:829-1794560400-1794681000@colegiodemedicinaestetica.com.mx
SUMMARY:Diplomado de Terapia Neural  Módulo 8: Articulaciones
DESCRIPTION:Diplomado de Terapia Neural en Articulaciones
URL:https://colegiodemedicinaestetica.com.mx/calendario/articulaciones/
LOCATION:ISIENA\, Calle Tabachín #514 Colonia Bellavista\, C.P. 62140\, Cuernavaca\, Morelos\, 62270\, Mexico
CATEGORIES:Cursos para Médicos,Diplomado de Terapia Neural,Terapia Neural
ATTACH;FMTTYPE=image/jpeg:https://colegiodemedicinaestetica.com.mx/wp-content/uploads/2018/01/TN8.jpg
END:VEVENT
END:VCALENDAR